BEGIN:VCALENDAR
VERSION:2.0
PRODID:-//ChamberMaster//Event Calendar 2.0//EN
METHOD:PUBLISH
X-PUBLISHED-TTL:P3D
REFRESH-INTERVAL:P3D
CALSCALE:GREGORIAN
BEGIN:VEVENT
DTSTART:20160319T230000Z
DTEND:20160320T012000Z
X-MICROSOFT-CDO-ALLDAYEVENT:FALSE
SUMMARY:Harmony Fest- MSSU Taylor Performing Arts Center
DESCRIPTION:The Seneca High School Choir presents Harmony Fest 6:00 pm\, March 19\, 2016 at Missouri Southern State University Taylor Performing Arts Center. Award winning groups\, Sho Me Statesmen\, Acappella Federation\, Premium Blend\, Harmonium\, Springfield Metro Chorus\, Jazz and Big Trouble. Come and enjoy the evening listening to the harmony of barbershop music.\n\nThis event is a fund raiser for the Seneca High School Choir. Proceeds will be used for the choir trip to New York in May... of 2016.\n\n\nPre sale tickets $ 10\n\nTickets at the gate. $ 12\n\nTickets can be purchased from Seneca High School Choir Students.
X-ALT-DESC;FMTTYPE=text/html:<div>\n<p>The Seneca High School Choir presents Harmony Fest 6:00 pm\, March 19\, 2016 at Missouri Southern State University Taylor Performing Arts Center. Award winning groups\, Sho Me Statesmen\, Acappella Federation\, Premium Blend\, Harmonium\, Springfield Metro Chorus\, Jazz and Big Trouble. Come and enjoy the evening listening to the harmony of barbershop music.</p>\n\n<p>This event is a fund raiser for the Seneca High School Choir. Proceeds will be used for the choir trip to New York in May... of 2016.</p>\n\n<div>\n<p>Pre sale tickets $ 10<br />\nTickets at the gate. $ 12</p>\n\n<p>Tickets can be purchased from Seneca High School Choir Students.</p>\n\n<p>&nbsp\;</p>\n</div>\n</div>\n
LOCATION:Taylor Auditorium\, Missouri Southern State University\, Joplin\, MO
UID:e.2144.1587
SEQUENCE:3
DTSTAMP:20260421T130527Z
URL:https://neoshocc.com/events/details/harmony-fest-mssu-taylor-performing-arts-center-03-19-2016-1587
END:VEVENT

END:VCALENDAR
