BEGIN:VCALENDAR
VERSION:2.0
PRODID:-//ChamberMaster//Event Calendar 2.0//EN
METHOD:PUBLISH
X-PUBLISHED-TTL:P3D
REFRESH-INTERVAL:P3D
CALSCALE:GREGORIAN
BEGIN:VEVENT
DTSTART:20160212T200000Z
DTEND:20160212T210000Z
X-MICROSOFT-CDO-ALLDAYEVENT:FALSE
SUMMARY:Ground Breaking for New Jr. High
DESCRIPTION:Join our school district as they have a ground breaking ceremony for our new Jr. High.
X-ALT-DESC;FMTTYPE=text/html:Join our school district as they have a ground breaking ceremony for our new Jr. High.
LOCATION:Behind Carver Elementary
UID:e.2144.1597
SEQUENCE:3
DTSTAMP:20260421T142838Z
URL:https://neoshocc.com/events/details/ground-breaking-for-new-jr-high-02-12-2016-1597
END:VEVENT

END:VCALENDAR
