BEGIN:VCALENDAR
VERSION:2.0
PRODID:-//ChamberMaster//Event Calendar 2.0//EN
METHOD:PUBLISH
X-PUBLISHED-TTL:P3D
REFRESH-INTERVAL:P3D
CALSCALE:GREGORIAN
BEGIN:VEVENT
DTSTART:20150716T180000Z
DTEND:20150716T190000Z
X-MICROSOFT-CDO-ALLDAYEVENT:FALSE
SUMMARY:Ground Breaking Ceremony at Oak Pointe Assisted Living & Memory Care
DESCRIPTION:You are invited to celebrate the ground breaking of Oak Pointe Assisted Living & Memory Care and learn more about the services & facilities they will bring to our community.
X-ALT-DESC;FMTTYPE=text/html:You are invited to celebrate the ground breaking of Oak Pointe Assisted Living &amp\; Memory Care and learn more about the services &amp\; facilities they will bring to our community.
LOCATION:Oak Pointe Assisted Living & Memory Care 2601 Oak Ridge Extension Neosho\, MO 64850
UID:e.2144.291
SEQUENCE:3
DTSTAMP:20260421T233638Z
URL:https://neoshocc.com/events/details/ground-breaking-ceremony-at-oak-pointe-assisted-living-memory-care-07-16-2015-291
END:VEVENT

END:VCALENDAR
