BEGIN:VCALENDAR
VERSION:2.0
PRODID:-//ChamberMaster//Event Calendar 2.0//EN
METHOD:PUBLISH
X-PUBLISHED-TTL:P3D
REFRESH-INTERVAL:P3D
CALSCALE:GREGORIAN
BEGIN:VEVENT
DTSTART:20150530T160000Z
DTEND:20150530T210000Z
X-MICROSOFT-CDO-ALLDAYEVENT:FALSE
SUMMARY:Grand Re-Opening Open House - Newton County Historical Society Museum & Park
DESCRIPTION:From the Newton County Historical Society:\n\nNotice of: GRAND RE-OPENING / OPEN HOUSE\n\n \n\nMay 30\, 2015\n\n11:00 am - 4 p.m. Saturday\n\n \n\nJoin us in the Historical Park & at the Museum for our Open House after a winter of restoration.  See a log hewn that day for Log Cabin repair & view all the old fashion wagons & buggies on display for your enjoyment.  Bring a blanket & picnic lunch.  ENJOY THE DAY. \n\n \n\nEVENT: Grand Re-Opening / Open House \n\nLOG HEWING: Eli Burchfield & assisted by Doug Hall\n\nWAGONS & BUGGIES:  Presented by Jim Bohannon & Friends\n\n \n\nFree and Open to the Public.  Everyone is invited.
X-ALT-DESC;FMTTYPE=text/html:<span style="font-size: medium\;"><span style="font-family: courier new\;">From the <strong><span style="font-size: medium\;">Newton County Historical Society:</span></strong></span></span><br />\n<span style="font-size: medium\;"><span style="font-family: courier new\;">Notice of: <strong><span style="font-size: medium\;">GRAND RE-OPENING / OPEN HOUSE</span></strong></span></span><br />\n&nbsp\;<br />\n<strong><span style="font-size: medium\;"><span style="font-family: courier new\;">May 30\, 2015</span></span></strong><br />\n<strong><span style="font-size: medium\;"><span style="font-family: courier new\;">11:00 am - 4 p.m. Saturday</span></span></strong><br />\n&nbsp\;<br />\n<span style="font-size: medium\;"><span style="font-family: courier new\;">Join us in the Historical Park &amp\; at the Museum for our Open House after a winter of restoration.&nbsp\; See a log hewn that day for Log Cabin repair &amp\; view all the old fashion wagons &amp\; buggies on display for your enjoyment.&nbsp\; Bring a blanket &amp\; picnic lunch.&nbsp\; ENJOY THE DAY. </span></span><br />\n&nbsp\;<br />\n<span style="font-size: medium\;"><span style="font-family: courier new\;">EVENT: Grand Re-Opening / Open House </span></span><br />\n<span style="font-size: medium\;"><span style="font-family: courier new\;">LOG HEWING: Eli Burchfield &amp\; assisted by Doug Hall</span></span><br />\n<span style="font-size: medium\;"><span style="font-family: courier new\;">WAGONS &amp\; BUGGIES:&nbsp\; Presented by Jim Bohannon &amp\; Friends</span></span><br />\n&nbsp\;<br />\n<span style="font-size: medium\;"><span style="font-family: courier new\;">Free and Open to the Public.&nbsp\; Everyone is invited.</span></span><br />\n&nbsp\;
LOCATION:Newton County Historical Society Museum & Park 121 N. Washington Street Neosho\, MO
UID:e.2144.271
SEQUENCE:3
DTSTAMP:20260422T030631Z
URL:https://neoshocc.com/events/details/grand-re-opening-open-house-newton-county-historical-society-museum-park-05-30-2015-271
END:VEVENT

END:VCALENDAR
