BEGIN:VCALENDAR
VERSION:2.0
PRODID:-//ChamberMaster//Event Calendar 2.0//EN
METHOD:PUBLISH
X-PUBLISHED-TTL:P3D
REFRESH-INTERVAL:P3D
CALSCALE:GREGORIAN
BEGIN:VEVENT
DTSTART:20150226T223000Z
DTEND:20150227T000000Z
X-MICROSOFT-CDO-ALLDAYEVENT:FALSE
SUMMARY:Grand Re-Opening & Business After Hours - Horizon Capital Advisors
DESCRIPTION:Join us for the Grand Reopening Ribbon Cutting followed by Business After Hours at Horizon Capital Advisors.
X-ALT-DESC;FMTTYPE=text/html:Join&nbsp\;us for the Grand Reopening Ribbon Cutting followed by Business After Hours at Horizon Capital Advisors.
LOCATION:Horizon Capital Advisors 220 E. Main Street Neosho\, MO 64850
UID:e.2144.141
SEQUENCE:3
DTSTAMP:20260422T073633Z
URL:https://neoshocc.com/events/details/grand-re-opening-business-after-hours-horizon-capital-advisors-02-26-2015-141
END:VEVENT

END:VCALENDAR
