BEGIN:VCALENDAR
VERSION:2.0
PRODID:-//ChamberMaster//Event Calendar 2.0//EN
METHOD:PUBLISH
X-PUBLISHED-TTL:P3D
REFRESH-INTERVAL:P3D
CALSCALE:GREGORIAN
BEGIN:VEVENT
DTSTART:20160511T140000Z
DTEND:20160511T143000Z
X-MICROSOFT-CDO-ALLDAYEVENT:FALSE
SUMMARY:Grand Opening Ribbon Cutting - The Resource Center - Sam Gorham Agency
DESCRIPTION:Join us in Welcoming Sam Gorham and The Resource Center to Neosho and as a New Member of the Neosho Area Chamber of Commerce.  Register to win 4 Tickets to a Springfield Cardinals Game!
X-ALT-DESC;FMTTYPE=text/html:Join us in Welcoming Sam Gorham and The Resource Center to Neosho and as a New Member of the Neosho Area Chamber of Commerce.&nbsp\; Register to win 4 Tickets to&nbsp\;a Springfield Cardinals Game!
LOCATION:404 S. Neosho Blvd Suite C Neosho\, MO
UID:e.2144.1643
SEQUENCE:3
DTSTAMP:20260421T085525Z
URL:https://neoshocc.com/events/details/grand-opening-ribbon-cutting-the-resource-center-sam-gorham-agency-05-11-2016-1643
END:VEVENT

END:VCALENDAR
