BEGIN:VCALENDAR
VERSION:2.0
PRODID:-//ChamberMaster//Event Calendar 2.0//EN
METHOD:PUBLISH
X-PUBLISHED-TTL:P3D
REFRESH-INTERVAL:P3D
CALSCALE:GREGORIAN
BEGIN:VEVENT
DTSTART:20141105T180000Z
DTEND:20141105T183000Z
X-MICROSOFT-CDO-ALLDAYEVENT:FALSE
SUMMARY:Grand Opening Ribbon Cutting/New Member Welcome - Ozark Ordnance
DESCRIPTION:The Neosho Area Chamber of Commerce invites you to the Grand Opening Ribbon Cutting & New Member Welcome for Ozark Ordnance.  Owners Tom & Liz Dowell know the importance of community!  They try to buy local\, hire local and support the school athletic programs.  Stop by and see their new manufacturing facility and retail store.  Meet the employees and see how they offer an onsite after school care program for their employees.
X-ALT-DESC;FMTTYPE=text/html:The Neosho Area Chamber of Commerce invites you to the Grand Opening Ribbon Cutting &amp\; New Member Welcome for Ozark Ordnance.&nbsp\; Owners Tom &amp\; Liz Dowell know the importance of community!&nbsp\; They try to buy local\, hire local and support the school athletic programs.&nbsp\; Stop by and see their new manufacturing facility and retail store.&nbsp\; Meet the employees and see how they offer an onsite after school care program for their employees.
LOCATION:Ozark Ordnance 19730 Hwy 59 Neosho\, MO 64850 (former Jesperson's Trailer Sales Location)
UID:e.2144.74
SEQUENCE:3
DTSTAMP:20260422T134541Z
URL:https://neoshocc.com/events/details/grand-opening-ribbon-cutting-new-member-welcome-ozark-ordnance-11-05-2014-74
END:VEVENT

END:VCALENDAR
