BEGIN:VCALENDAR
VERSION:2.0
PRODID:-//ChamberMaster//Event Calendar 2.0//EN
METHOD:PUBLISH
X-PUBLISHED-TTL:P3D
REFRESH-INTERVAL:P3D
CALSCALE:GREGORIAN
BEGIN:VEVENT
DTSTART:20160407T180000Z
DTEND:20160407T190000Z
X-MICROSOFT-CDO-ALLDAYEVENT:FALSE
SUMMARY:Grand Opening Ribbon Cutting - Neosho Footgolf Course
DESCRIPTION:Join the City of Neosho for the Grand Opening Ribbon Cutting of the NEW Neosho Footgolf Course!  It's like golf..but with a Soccer Ball.
X-ALT-DESC;FMTTYPE=text/html:Join the City of Neosho for the Grand Opening Ribbon Cutting of the NEW Neosho Footgolf Course!&nbsp\; It&#39\;s like golf..but with a Soccer Ball.
LOCATION:Neosho Golf Course 1850 Clubhouse Road Neosho\, MO
UID:e.2144.1625
SEQUENCE:3
DTSTAMP:20260421T102402Z
URL:https://neoshocc.com/events/details/grand-opening-ribbon-cutting-neosho-footgolf-course-04-07-2016-1625
END:VEVENT

END:VCALENDAR
