BEGIN:VCALENDAR
VERSION:2.0
PRODID:-//ChamberMaster//Event Calendar 2.0//EN
METHOD:PUBLISH
X-PUBLISHED-TTL:P3D
REFRESH-INTERVAL:P3D
CALSCALE:GREGORIAN
BEGIN:VEVENT
DTSTART:20140920T140000Z
DTEND:20140920T210000Z
X-MICROSOFT-CDO-ALLDAYEVENT:FALSE
SUMMARY:Granby House Fall Festival
DESCRIPTION:Granby House Second Annual Fall Festival and Car Show. We will have Big Skillet and Bill Bowman playing music for us. We have a huge car show planned. We have craft vendors and local artist's. We will have food\, games\, a pie eating contest\, jack-o-lantern contest and a scare crow contest. Bring a law chair and Everyone welcome.
X-ALT-DESC;FMTTYPE=text/html:Granby House Second Annual Fall Festival and Car Show. We will have Big Skillet and Bill Bowman playing music for us. We have a huge car show planned. We have craft vendors and local artist&#39\;s. We will have food\, games\, a pie eating contest\, jack-o-lantern contest and a scare crow contest. Bring a law chair and Everyone welcome.
LOCATION:301 S Main St\, Granby\, MO 64844
UID:e.2144.25
SEQUENCE:3
DTSTAMP:20260422T150502Z
URL:https://neoshocc.com/events/details/granby-house-fall-festival-09-20-2014-25
END:VEVENT

END:VCALENDAR
