BEGIN:VCALENDAR
VERSION:2.0
PRODID:-//ChamberMaster//Event Calendar 2.0//EN
METHOD:PUBLISH
X-PUBLISHED-TTL:P3D
REFRESH-INTERVAL:P3D
CALSCALE:GREGORIAN
BEGIN:VEVENT
DTSTART:20190819T223000Z
DTEND:20190820T010000Z
X-MICROSOFT-CDO-ALLDAYEVENT:FALSE
SUMMARY:Goodman Elementary Grand Opening\, Ribbon Cutting & Community Welcome
DESCRIPTION:Join us for a Ribbon Cutting at Goodman Elementary School!\n\nThere will be food & fun beginning at 5:30 p.m. \n\nRibbon Cutting at 6 p.m. with building tours to follow!
X-ALT-DESC;FMTTYPE=text/html:Join us for a Ribbon Cutting at Goodman Elementary School!<br>\nThere will be food &amp\; fun beginning at 5:30 p.m.&nbsp\;<br>\nRibbon Cutting at 6 p.m. with building tours to follow!&nbsp\;
LOCATION:Goodman Elementary School 117 N. School St. Goodman\, MO 64843
UID:e.2144.2656
SEQUENCE:3
DTSTAMP:20260421T083734Z
URL:https://neoshocc.com/events/details/goodman-elementary-grand-opening-ribbon-cutting-community-welcome-2656
END:VEVENT

END:VCALENDAR
