BEGIN:VCALENDAR
VERSION:2.0
PRODID:-//ChamberMaster//Event Calendar 2.0//EN
METHOD:PUBLISH
X-PUBLISHED-TTL:P3D
REFRESH-INTERVAL:P3D
CALSCALE:GREGORIAN
BEGIN:VEVENT
DTSTART;VALUE=DATE:20210730
DTEND;VALUE=DATE:20210801
TRANSP:TRANSPARENT
X-MICROSOFT-CDO-ALLDAYEVENT:TRUE
SUMMARY:Goodbye\, July Clearance Sale!
DESCRIPTION:Join us for an end of July CLEARANCE event!\n\nDresses\, Kimonos\, Tops & Bottoms marked down to $15 and $20 or less. (Sizes Small - 3X)\n\nFollow the event on Facebook\, HERE.\n\n.\n\nFRIDAY & SATURDAY (10AM - 5PM)\n\n117 W. Valley Street\n\nGranby\, MO
X-ALT-DESC;FMTTYPE=text/html:<span style="background-color:rgb(255\, 255\, 255)\; color:rgb(5\, 5\, 5)\; font-family:roboto\,helvetica\,arial\,sans-serif\; font-size:15px">Join us for an end of July CLEARANCE event!<br />\nDresses\, Kimonos\, Tops &amp\; Bottoms marked down to $15 and $20 or less. (Sizes Small - 3X)<br />\nFollow the event on Facebook\, <a href="https://www.facebook.com/events/852042205733485?acontext=%7B%22event_action_history%22%3A[%7B%22surface%22%3A%22page%22%7D]%7D">HERE</a>.</span><br />\n<span style="background-color:rgb(255\, 255\, 255)\; color:rgb(5\, 5\, 5)\; font-family:roboto\,helvetica\,arial\,sans-serif\; font-size:15px">.</span><br />\n<span style="background-color:rgb(255\, 255\, 255)\; color:rgb(5\, 5\, 5)\; font-family:roboto\,helvetica\,arial\,sans-serif\; font-size:15px">FRIDAY &amp\; SATURDAY (10AM - 5PM)</span><br />\n<span style="background-color:rgb(255\, 255\, 255)\; color:rgb(5\, 5\, 5)\; font-family:roboto\,helvetica\,arial\,sans-serif\; font-size:15px">117 W. Valley Street</span><br />\n<span style="background-color:rgb(255\, 255\, 255)\; color:rgb(5\, 5\, 5)\; font-family:roboto\,helvetica\,arial\,sans-serif\; font-size:15px">Granby\, MO</span>\n<div>&nbsp\;</div>\n
LOCATION:117 W. Valley Street Granby\, MO 64844
UID:e.2144.7827
SEQUENCE:3
DTSTAMP:20260423T175833Z
URL:https://neoshocc.com/events/details/goodbye-july-clearance-sale-7827
END:VEVENT

END:VCALENDAR
