BEGIN:VCALENDAR
VERSION:2.0
PRODID:-//ChamberMaster//Event Calendar 2.0//EN
METHOD:PUBLISH
X-PUBLISHED-TTL:P3D
REFRESH-INTERVAL:P3D
CALSCALE:GREGORIAN
BEGIN:VEVENT
DTSTART:20240413T010000Z
DTEND:20240413T040000Z
X-MICROSOFT-CDO-ALLDAYEVENT:FALSE
SUMMARY:Glow Bowl
DESCRIPTION:Weekend Glow Bowl fun @ Edgewood Bowling Center Neosho\, Missouri\n\nGreat Music Food and Fun on Friday and Saturday night starting at 8 pm
X-ALT-DESC;FMTTYPE=text/html:Weekend Glow Bowl fun @ Edgewood Bowling Center Neosho\, Missouri<br />\nGreat Music Food and Fun on Friday and Saturday night starting at 8 pm
LOCATION:2811 Gardner Edgewood Drive Neosho! Missouri 64850
UID:e.2144.11514
SEQUENCE:3
DTSTAMP:20260419T192854Z
URL:https://neoshocc.com/events/details/glow-bowl-11514
END:VEVENT

END:VCALENDAR
