BEGIN:VCALENDAR
VERSION:2.0
PRODID:-//ChamberMaster//Event Calendar 2.0//EN
METHOD:PUBLISH
X-PUBLISHED-TTL:P3D
REFRESH-INTERVAL:P3D
CALSCALE:GREGORIAN
BEGIN:VEVENT
DTSTART:20150321T223000Z
DTEND:20150322T020000Z
X-MICROSOFT-CDO-ALLDAYEVENT:FALSE
SUMMARY:Garry Carson's Magical Mystery Show
DESCRIPTION:The Neosho Rotary invites you to come enjoy a night of Comedy Magic\, Grand Illusions\, Audience Participation & much\, much More at Garry Carson's Magical Mysery Show.
X-ALT-DESC;FMTTYPE=text/html:The Neosho Rotary invites you to come enjoy a night of Comedy Magic\, Grand Illusions\, Audience Participation &amp\; much\, much More at Garry Carson&#39\;s Magical Mysery Show.
LOCATION:The Neosho Civic 109 E. Main Neosho\, MO
UID:e.2144.151
SEQUENCE:3
DTSTAMP:20260422T060431Z
URL:https://neoshocc.com/events/details/garry-carson-s-magical-mystery-show-03-21-2015-151
END:VEVENT

END:VCALENDAR
