BEGIN:VCALENDAR
VERSION:2.0
PRODID:-//ChamberMaster//Event Calendar 2.0//EN
METHOD:PUBLISH
X-PUBLISHED-TTL:P3D
REFRESH-INTERVAL:P3D
CALSCALE:GREGORIAN
BEGIN:VEVENT
DTSTART:20211204T010000Z
DTEND:20211204T200000Z
X-MICROSOFT-CDO-ALLDAYEVENT:FALSE
SUMMARY:Frozen Jr. presented by Crowder College Theatre
DESCRIPTION:Crowder College Theatre presents Frozen Jr. (Book by Jennifer Lee and directed by NaTasha O'Brien-Davies/Shirley Gollhofer) December 3 (7pm) and December 4 (10am & 2pm) at the Elsie Plaster Community Center. Bring a canned food donation and receive a discounted ticket! \n\n\n\nTicket reservations can be made by calling 417.455.5458 or by visiting "Events" at the following link www.facebook.com/CrowderCollegeTheatre\n\n\n\nThis production is rated G.
X-ALT-DESC;FMTTYPE=text/html:Crowder College Theatre presents Frozen Jr.&nbsp\;(Book by Jennifer Lee and directed by NaTasha O&#39\;Brien-Davies/Shirley Gollhofer) December 3 (7pm) and December 4 (10am &amp\; 2pm) at the Elsie Plaster Community Center. Bring a canned food donation and receive a discounted ticket!&nbsp\;<br />\n<br />\nTicket reservations can be made by calling 417.455.5458 or by visiting &quot\;Events&quot\; at the following link <a href="http://www.facebook.com/CrowderCollegeTheatre">www.facebook.com/CrowderCollegeTheatre</a><br />\n<br />\nThis production is rated G.
LOCATION:Elsie Plaster Community Center\, Crowder College 601 Laclede Ave.\, Neosho\, MO 64850
UID:e.2144.8075
SEQUENCE:3
DTSTAMP:20260424T003002Z
URL:https://neoshocc.com/events/details/frozen-jr-presented-by-crowder-college-theatre-8075
END:VEVENT

END:VCALENDAR
