BEGIN:VCALENDAR
VERSION:2.0
PRODID:-//ChamberMaster//Event Calendar 2.0//EN
METHOD:PUBLISH
X-PUBLISHED-TTL:P3D
REFRESH-INTERVAL:P3D
CALSCALE:GREGORIAN
BEGIN:VEVENT
DTSTART:20150924T133000Z
DTEND:20150924T200000Z
X-MICROSOFT-CDO-ALLDAYEVENT:FALSE
SUMMARY:Free Eye Screening Clinic
DESCRIPTION:EYE SCREENING      CLINIC\n\n\n\n\n\n Thursday\, September 24\, 2015\n\n \n\n8:30 a.m. to 3:00 p.m.\n\n(Closed from 11:00 a.m. to 12:00 noon)\n\n \n\nNewton County Health Department\n\n 812 West Harmony\n\n  Neosho\, MO\n\n \n\n  OPEN TO EVERYONE AT NO COST\n\n \n\nThe purpose of this clinic is to screen for vision problems\, malfunctions and malformations of the eyes.  The clinic is free and open to everyone\, regardless of age or income.  Examinations will be conducted by resident ophthalmologists from Mason Eye Institute\, University of Missouri at Columbia.  Those who require further treatment or examination will be referred to a local eye care specialist.  Persons who meet Prevention of Blindness eligibility requirements may receive assistance in paying for the cost of any recommended services. \n\n \n\nNote: The doctors cannot write prescriptions for glasses.\n\nCall for an appointment:    (417) 451-3743 ext. 1007\n\n                                            Newton County Health Department\n\n \n\n_________________________________ Sponsored by ___________________________________\n\n \n\nDepartment of Social Services                                                      Mason Eye Institute of Ophthalmology\n\nFamily Support Division                                                                 University of Missouri Hospital & Clinics\n\nRehabilitation Services for the Blind                                               Newton County Health Dept.
X-ALT-DESC;FMTTYPE=text/html:<span style="font-size: 14px\;">EYE&nbsp\;SCREENING &nbsp\;&nbsp\;&nbsp\;&nbsp\;&nbsp\;CLINIC</span><br />\n<br />\n<br />\n&nbsp\;Thursday\, September 24\, 2015<br />\n&nbsp\;<br />\n8:30 a.m. to 3:00 p.m.<br />\n(Closed from 11:00 a.m. to 12:00 noon)<br />\n&nbsp\;<br />\nNewton County Health Department<br />\n&nbsp\;812 West Harmony<br />\n&nbsp\; Neosho\, MO<br />\n&nbsp\;<br />\n&nbsp\; OPEN TO EVERYONE AT NO COST<br />\n&nbsp\;<br />\nThe purpose of this clinic is to screen for vision problems\, malfunctions and malformations of the eyes.&nbsp\; The clinic is free and open to everyone\, regardless of age or income.&nbsp\; Examinations will be conducted by resident ophthalmologists from Mason Eye Institute\, University of Missouri at Columbia.&nbsp\; Those who require further treatment or examination will be referred to a local eye care specialist.&nbsp\; Persons who meet Prevention of Blindness eligibility requirements may receive assistance in paying for the cost of any recommended services.&nbsp\;<br />\n&nbsp\;<br />\nNote: The doctors cannot write prescriptions for glasses.<br />\nCall for an appointment:&nbsp\; &nbsp\; (417) 451-3743 ext. 1007<br />\n&nbsp\;&nbsp\;&nbsp\;&nbsp\;&nbsp\;&nbsp\;&nbsp\;&nbsp\;&nbsp\;&nbsp\;&nbsp\;&nbsp\;&nbsp\;&nbsp\;&nbsp\;&nbsp\;&nbsp\;&nbsp\;&nbsp\;&nbsp\;&nbsp\;&nbsp\;&nbsp\;&nbsp\;&nbsp\;&nbsp\;&nbsp\;&nbsp\;&nbsp\;&nbsp\;&nbsp\;&nbsp\;&nbsp\;&nbsp\;&nbsp\;&nbsp\;&nbsp\;&nbsp\;&nbsp\;&nbsp\;&nbsp\; &nbsp\; Newton County Health Department<br />\n&nbsp\;<br />\n_________________________________ Sponsored by ___________________________________<br />\n&nbsp\;<br />\nDepartment of Social Services&nbsp\;&nbsp\;&nbsp\;&nbsp\;&nbsp\;&nbsp\;&nbsp\;&nbsp\;&nbsp\;&nbsp\;&nbsp\;&nbsp\;&nbsp\;&nbsp\;&nbsp\;&nbsp\;&nbsp\;&nbsp\;&nbsp\;&nbsp\;&nbsp\;&nbsp\;&nbsp\;&nbsp\;&nbsp\;&nbsp\;&nbsp\;&nbsp\;&nbsp\;&nbsp\;&nbsp\;&nbsp\;&nbsp\;&nbsp\;&nbsp\;&nbsp\;&nbsp\;&nbsp\;&nbsp\;&nbsp\;&nbsp\;&nbsp\;&nbsp\;&nbsp\;&nbsp\;&nbsp\;&nbsp\;&nbsp\;&nbsp\;&nbsp\;&nbsp\;&nbsp\;&nbsp\; Mason Eye Institute of Ophthalmology<br />\nFamily Support Division&nbsp\;&nbsp\;&nbsp\;&nbsp\;&nbsp\;&nbsp\;&nbsp\;&nbsp\;&nbsp\;&nbsp\;&nbsp\;&nbsp\;&nbsp\;&nbsp\;&nbsp\;&nbsp\;&nbsp\;&nbsp\;&nbsp\;&nbsp\;&nbsp\;&nbsp\;&nbsp\;&nbsp\;&nbsp\;&nbsp\;&nbsp\;&nbsp\;&nbsp\;&nbsp\;&nbsp\;&nbsp\;&nbsp\;&nbsp\;&nbsp\;&nbsp\;&nbsp\;&nbsp\;&nbsp\;&nbsp\;&nbsp\;&nbsp\;&nbsp\;&nbsp\;&nbsp\;&nbsp\;&nbsp\;&nbsp\;&nbsp\;&nbsp\;&nbsp\;&nbsp\;&nbsp\;&nbsp\;&nbsp\;&nbsp\;&nbsp\;&nbsp\;&nbsp\;&nbsp\;&nbsp\;&nbsp\;&nbsp\;&nbsp\; University of Missouri Hospital &amp\; Clinics<br />\nRehabilitation Services for the Blind&nbsp\;&nbsp\;&nbsp\;&nbsp\;&nbsp\;&nbsp\;&nbsp\;&nbsp\;&nbsp\;&nbsp\;&nbsp\;&nbsp\;&nbsp\;&nbsp\;&nbsp\;&nbsp\;&nbsp\;&nbsp\; &nbsp\;&nbsp\;&nbsp\;&nbsp\;&nbsp\;&nbsp\;&nbsp\;&nbsp\;&nbsp\;&nbsp\;&nbsp\;&nbsp\;&nbsp\;&nbsp\;&nbsp\;&nbsp\;&nbsp\;&nbsp\;&nbsp\;&nbsp\;&nbsp\;&nbsp\;&nbsp\;&nbsp\;&nbsp\;&nbsp\;&nbsp\; Newton County Health Dept.
LOCATION:Newton County Health Department Neosho MO
UID:e.2144.1439
SEQUENCE:3
DTSTAMP:20260421T201955Z
URL:https://neoshocc.com/events/details/free-eye-screening-clinic-09-24-2015-1439
END:VEVENT

END:VCALENDAR
