BEGIN:VCALENDAR
VERSION:2.0
PRODID:-//ChamberMaster//Event Calendar 2.0//EN
METHOD:PUBLISH
X-PUBLISHED-TTL:P3D
REFRESH-INTERVAL:P3D
CALSCALE:GREGORIAN
BEGIN:VEVENT
DTSTART:20241207T190000Z
DTEND:20241207T210000Z
X-MICROSOFT-CDO-ALLDAYEVENT:FALSE
SUMMARY:**Free Event** Santa Claus at the Lampo Building
DESCRIPTION:Join us at the Lampo Building for:*\n\n	Refreshments\n	Photos with Santa\n	Crafts & family activities\n	Face painting\n	and FUN!\n\n*while supplies last
X-ALT-DESC;FMTTYPE=text/html:Join us at the Lampo Building for:*\n<ul>\n	<li>Refreshments</li>\n	<li>Photos with Santa</li>\n	<li>Crafts &amp\; family activities</li>\n	<li>Face painting</li>\n	<li>and FUN!</li>\n</ul>\n*while supplies last<br />\n&nbsp\;
LOCATION:Lampo Center 500 E Spring St Neosho\, MO 64850
UID:e.2144.14140
SEQUENCE:3
DTSTAMP:20260421T132254Z
URL:https://neoshocc.com/events/details/free-event-santa-claus-at-the-lampo-building-14140
END:VEVENT

END:VCALENDAR
