BEGIN:VCALENDAR
VERSION:2.0
PRODID:-//ChamberMaster//Event Calendar 2.0//EN
METHOD:PUBLISH
X-PUBLISHED-TTL:P3D
REFRESH-INTERVAL:P3D
CALSCALE:GREGORIAN
BEGIN:VEVENT
DTSTART:20160423T133000Z
DTEND:20160423T153000Z
X-MICROSOFT-CDO-ALLDAYEVENT:FALSE
SUMMARY:Four States Flattest 5K - Neosho Freeman Family YMCA
DESCRIPTION:The Neosho Freeman Family YMCA is hosting the Four States Flattest 5K
X-ALT-DESC;FMTTYPE=text/html:The Neosho Freeman Family YMCA is hosting the Four States Flattest 5K
LOCATION:Neosho Freeman Family YMCA
UID:e.2144.1642
SEQUENCE:3
DTSTAMP:20260421T102529Z
URL:https://neoshocc.com/events/details/four-states-flattest-5k-neosho-freeman-family-ymca-04-23-2016-1642
END:VEVENT

END:VCALENDAR
