BEGIN:VCALENDAR
VERSION:2.0
PRODID:-//ChamberMaster//Event Calendar 2.0//EN
METHOD:PUBLISH
X-PUBLISHED-TTL:P3D
REFRESH-INTERVAL:P3D
CALSCALE:GREGORIAN
BEGIN:VEVENT
DTSTART:20190824T230000Z
DTEND:20190825T020000Z
X-MICROSOFT-CDO-ALLDAYEVENT:FALSE
SUMMARY:Food Truck Frenzy Featuring Water Wars
DESCRIPTION:The community of Granby is excited to announce its second Food Truck Frenzy featuring Water Wars! Join for a picnic in Dick Smith Park on Saturday\, August 24th. Various food trucks/vendors will be available as well as water games and bounce houses. Food vendors include:\n\n	Bald Rod's Hot Dogs\n	The Bar B Q Joint\n	Flamin' Taco\n	Tim Bowman's Redneck Recipies \n	Earth Ground Coffee\n	Sweet Springs Treats\n	Sweet Springs Garden & Grill \n	EZ Cheezy\n	Watermelon slices \n	Ice cream Floats\n	Drink Station \n	Mrs. Yang's Egg Rolls \n	Grilled Corn On The Cob\n	Blondies Woodfire Wheelhouse
X-ALT-DESC;FMTTYPE=text/html:<span style="font-family:arial\;"><span style="font-size:16px\;">The community of Granby is excited to announce its second Food Truck Frenzy featuring Water Wars! Join for a picnic in Dick Smith Park on Saturday\, August 24th. Various food trucks/vendors will be available as well&nbsp\;<span style="text-align: center\; white-space: pre-wrap\; background-color: rgb(255\, 255\, 255)\;">as </span><span style="text-align: center\; white-space: pre-wrap\; background-color: rgb(255\, 255\, 255)\; color: rgb(29\, 33\, 41)\;">water games and bounce houses. Food vendors include:</span></span></span>\n<ul>\n	<li><span style="font-family:arial\;"><span style="font-size:16px\;">Bald Rod&#39\;s Hot Dogs</span></span></li>\n	<li><span style="font-family:arial\;"><span style="font-size:16px\;">The Bar B Q Joint</span></span></li>\n	<li><span style="font-family:arial\;"><span style="font-size:16px\;">Flamin&#39\;&nbsp\;Taco</span></span></li>\n	<li><span style="font-family:arial\;"><span style="font-size:16px\;">Tim Bowman&#39\;s Redneck Recipies&nbsp\;</span></span></li>\n	<li><span style="font-family:arial\;"><span style="font-size:16px\;">Earth Ground Coffee</span></span></li>\n	<li><span style="font-family:arial\;"><span style="font-size:16px\;">Sweet Springs Treats</span></span></li>\n	<li><span style="font-family:arial\;"><span style="font-size:16px\;">Sweet Springs Garden &amp\; Grill&nbsp\;</span></span></li>\n	<li><span style="font-family:arial\;"><span style="font-size:16px\;">EZ Cheezy</span></span></li>\n	<li><span style="font-family:arial\;"><span style="font-size:16px\;">Watermelon slices&nbsp\;</span></span></li>\n	<li><span style="font-family:arial\;"><span style="font-size:16px\;">Ice cream Floats</span></span></li>\n	<li><span style="font-family:arial\;"><span style="font-size:16px\;">Drink Station&nbsp\;</span></span></li>\n	<li><span style="font-family:arial\;"><span style="font-size:16px\;">Mrs. Yang&#39\;s Egg Rolls&nbsp\;</span></span></li>\n	<li><span style="font-family:arial\;"><span style="font-size:16px\;">Grilled Corn On The Cob</span></span></li>\n	<li><span style="font-family:arial\;"><span style="font-size:16px\;">Blondies Woodfire Wheelhouse</span></span></li>\n</ul>\n
LOCATION:Dick Smith Park W Oak St\, Granby\, Missouri 64844
UID:e.2144.2673
SEQUENCE:3
DTSTAMP:20260421T085600Z
URL:https://neoshocc.com/events/details/food-truck-frenzy-featuring-water-wars-2673
END:VEVENT

END:VCALENDAR
