BEGIN:VCALENDAR
VERSION:2.0
PRODID:-//ChamberMaster//Event Calendar 2.0//EN
METHOD:PUBLISH
X-PUBLISHED-TTL:P3D
REFRESH-INTERVAL:P3D
CALSCALE:GREGORIAN
BEGIN:VEVENT
DTSTART:20140919T160000Z
DTEND:20140919T230000Z
X-MICROSOFT-CDO-ALLDAYEVENT:FALSE
SUMMARY:Food for Floats - Arvest Bank
DESCRIPTION:Food for Floats at Neosho Arvest Bank\, 739 Harmony\, Neosho.\n\nBring in 6 non-perishable food items or $3 and get a Root Beer Float!\n\nArvest Bank is participating in 1 Million Meals.  The program runs from September 3rd to November 1st.  All donations collected will go to the Newton County Food Basket Brigade\, Inc. Help us provide many needed meals for the families of our community!
X-ALT-DESC;FMTTYPE=text/html:Food for Floats at Neosho Arvest Bank\, 739 Harmony\, Neosho.<br />\nBring in 6 non-perishable food items or $3 and get a Root Beer Float!<br />\nArvest Bank is participating in 1 Million Meals.&nbsp\; The program runs from September 3rd to November 1st.&nbsp\; All donations collected will go to the Newton County Food Basket Brigade\, Inc. Help us provide many needed meals for the families of our community!
LOCATION:Neosho Arvest Bank 739 Harmony St Neosho\, MO 64850
UID:e.2144.37
SEQUENCE:3
DTSTAMP:20260422T150731Z
URL:https://neoshocc.com/events/details/food-for-floats-arvest-bank-09-19-2014-37
END:VEVENT

END:VCALENDAR
