BEGIN:VCALENDAR
VERSION:2.0
PRODID:-//ChamberMaster//Event Calendar 2.0//EN
METHOD:PUBLISH
X-PUBLISHED-TTL:P3D
REFRESH-INTERVAL:P3D
CALSCALE:GREGORIAN
BEGIN:VEVENT
DTSTART:20190610T153000Z
DTEND:20190610T160000Z
X-MICROSOFT-CDO-ALLDAYEVENT:FALSE
SUMMARY:Flamin Taco New Member Welcome Ribbon Cutting
DESCRIPTION:Join us for the New Member Welcome Ribbon Cutting for Flamin Taco Food Truck
X-ALT-DESC;FMTTYPE=text/html:Join us for the New Member Welcome Ribbon Cutting for Flamin Taco Food Truck
LOCATION:Flamin Taco Food Truck 920 S. Neosho Blvd Neosho\, MO
UID:e.2144.2533
SEQUENCE:3
DTSTAMP:20260424T003114Z
URL:https://neoshocc.com/events/details/flamin-taco-new-member-welcome-ribbon-cutting-2533
END:VEVENT

END:VCALENDAR
