BEGIN:VCALENDAR
VERSION:2.0
PRODID:-//ChamberMaster//Event Calendar 2.0//EN
METHOD:PUBLISH
X-PUBLISHED-TTL:P3D
REFRESH-INTERVAL:P3D
CALSCALE:GREGORIAN
BEGIN:VEVENT
DTSTART:20210604T230000Z
DTEND:20210605T010000Z
X-MICROSOFT-CDO-ALLDAYEVENT:FALSE
SUMMARY:First Friday Wine Share
DESCRIPTION:Come down and enjoy drinks from Indian Springs Brewing Company at Silhouette Imaging. There will be individual charcuterie cups\, filled with meats & cheeses from Hatfields Smoked Meats being served! There will also be coffee from The Clay Cup - A Coffee Pottery (regular & decaf) available! Come enjoy live music at The Florist & The Merchant! Gift giveaways will be happening at both locations!
X-ALT-DESC;FMTTYPE=text/html:<span style="font-size:14px\;"><span style="font-family:verdana\;">Come down and enjoy drinks from Indian Springs Brewing Company at Silhouette Imaging.&nbsp\;<span style="color: rgb(5\, 5\, 5)\;">There will be individual charcuterie cups\, filled with meats &amp\; cheeses from&nbsp\;</span><span style="color: rgb(5\, 5\, 5)\;"><a class="oajrlxb2 g5ia77u1 qu0x051f esr5mh6w e9989ue4 r7d6kgcz rq0escxv nhd2j8a9 nc684nl6 p7hjln8o kvgmc6g5 cxmmr5t8 oygrvhab hcukyx3x jb3vyjys rz4wbd8a qt6c0cv9 a8nywdso i1ao9s8h esuyzwwr f1sip0of lzcic4wl oo9gr5id gpro0wi8 lrazzd5p" href="https://www.facebook.com/Hatfields-Smoked-Meats-377168736671/?__cft__[0]=AZW4iw0x5wmVWbfti92Qyq84mxCh3Y7y2v-H6f-x2Nj3HFz5G5jIiJoGF47wFC3d4FzeqKnoJjelTuHJllllXsmZNkg4fV1FIQlcnMwxcpxZnaVZiec5v25XGW49YRLhD99aXEjUW7YcGorEMJVDAt0EQj739B0OhrUsYBXChPoc9Q&amp\;__tn__=kK*F" role="link" style="color: var(--primary-text)\; cursor: pointer\; text-decoration-line: none\; outline: none\; list-style: none\; border-width: 0px\; border-style: initial\; border-color: initial\; padding: 0px\; margin: 0px\; touch-action: manipulation\; background-color: transparent\; text-align: inherit\; font-weight: 600\; display: inline\; -webkit-tap-highlight-color: transparent\; box-sizing: border-box\; font-family: inherit\;" tabindex="0"><span class="nc684nl6" style="display: inline\;">Hatfields Smoked Meats</span></a></span><span style="color: rgb(5\, 5\, 5)\;">&nbsp\;being served!&nbsp\;</span><span style="color: rgb(5\, 5\, 5)\;">There will also be coffee from&nbsp\;<a class="oajrlxb2 g5ia77u1 qu0x051f esr5mh6w e9989ue4 r7d6kgcz rq0escxv nhd2j8a9 nc684nl6 p7hjln8o kvgmc6g5 cxmmr5t8 oygrvhab hcukyx3x jb3vyjys rz4wbd8a qt6c0cv9 a8nywdso i1ao9s8h esuyzwwr f1sip0of lzcic4wl oo9gr5id gpro0wi8 lrazzd5p" href="https://www.facebook.com/TheClayCupCoffeePottery/?__cft__[0]=AZW4iw0x5wmVWbfti92Qyq84mxCh3Y7y2v-H6f-x2Nj3HFz5G5jIiJoGF47wFC3d4FzeqKnoJjelTuHJllllXsmZNkg4fV1FIQlcnMwxcpxZnaVZiec5v25XGW49YRLhD99aXEjUW7YcGorEMJVDAt0EQj739B0OhrUsYBXChPoc9Q&amp\;__tn__=kK*F" role="link" style="color: var(--primary-text)\; cursor: pointer\; text-decoration-line: none\; outline: none\; list-style: none\; border-width: 0px\; border-style: initial\; border-color: initial\; padding: 0px\; margin: 0px\; touch-action: manipulation\; background-color: transparent\; text-align: inherit\; font-weight: 600\; display: inline\; -webkit-tap-highlight-color: transparent\; box-sizing: border-box\; font-family: inherit\;" tabindex="0"><span class="nc684nl6" style="display: inline\;">The Clay Cup - A Coffee Pottery</span></a>&nbsp\;(regular &amp\; decaf) available!&nbsp\;</span><span style="color: rgb(5\, 5\, 5)\;">Come enjoy&nbsp\;live music</span><span style="color: rgb(5\, 5\, 5)\;">&nbsp\;at The Florist &amp\; The Merchant!</span>&nbsp\;Gift giveaways will be happening at both locations!</span></span>\n\n<div>&nbsp\;</div>\n
LOCATION:Location: The Florist and the Merchant & Silhouette Imaging on the Historic Downtown Neosho Square
UID:e.2144.7658
SEQUENCE:3
DTSTAMP:20260423T144519Z
URL:https://neoshocc.com/events/details/first-friday-wine-share-7658
END:VEVENT

END:VCALENDAR
