BEGIN:VCALENDAR
VERSION:2.0
PRODID:-//ChamberMaster//Event Calendar 2.0//EN
METHOD:PUBLISH
X-PUBLISHED-TTL:P3D
REFRESH-INTERVAL:P3D
CALSCALE:GREGORIAN
BEGIN:VEVENT
DTSTART:20190802T230000Z
DTEND:20190803T010000Z
X-MICROSOFT-CDO-ALLDAYEVENT:FALSE
SUMMARY:First Friday Wine Share
DESCRIPTION:You're invited to Grey Oak Wine Share\n\nOpen to the Public\n\nFriday\, August 2nd 2019\n\n6:00 p.m. - 8:00 p.m.\n\nPlease bring a bottle of wine or craft beer with you.\n\nFood will be provided
X-ALT-DESC;FMTTYPE=text/html:You&#39\;re invited to Grey Oak Wine Share<br />\nOpen to the Public<br />\nFriday\, August 2nd 2019<br />\n6:00 p.m. - 8:00 p.m.<br />\nPlease bring a bottle of wine or craft beer with you.<br />\nFood will be provided
LOCATION:Grey Oak Investment 120 S. Wood St. Neosho\, MO 64850 On Neosho Square 417-451-0000
UID:e.2144.2652
SEQUENCE:3
DTSTAMP:20260421T083021Z
URL:https://neoshocc.com/events/details/first-friday-wine-share-2652
END:VEVENT

END:VCALENDAR
