BEGIN:VCALENDAR
VERSION:2.0
PRODID:-//ChamberMaster//Event Calendar 2.0//EN
METHOD:PUBLISH
X-PUBLISHED-TTL:P3D
REFRESH-INTERVAL:P3D
CALSCALE:GREGORIAN
BEGIN:VEVENT
DTSTART:20150306T133000Z
DTEND:20150306T143000Z
X-MICROSOFT-CDO-ALLDAYEVENT:FALSE
SUMMARY:First Friday Coffee- Oak Ridge Pawn Shop
DESCRIPTION:Join Us for our Monthly Networking Event!  First Friday Coffee will be hosted by Oak Ridge Pawn Shop o Friday\, March 6th from 7:30am to 8:30am
X-ALT-DESC;FMTTYPE=text/html:Join Us for our Monthly Networking Event!&nbsp\; First Friday Coffee will be hosted by Oak Ridge Pawn Shop o Friday\, March 6th from 7:30am to 8:30am<br />\n&nbsp\;
LOCATION:Oak Ridge Pawn Shop 2209 Oak Ridge Drive Neosho\, MO 64850
UID:e.2144.112
SEQUENCE:3
DTSTAMP:20260422T060528Z
URL:https://neoshocc.com/events/details/first-friday-coffee-oak-ridge-pawn-shop-03-06-2015-112
END:VEVENT

END:VCALENDAR
