BEGIN:VCALENDAR
VERSION:2.0
PRODID:-//ChamberMaster//Event Calendar 2.0//EN
METHOD:PUBLISH
X-PUBLISHED-TTL:P3D
REFRESH-INTERVAL:P3D
CALSCALE:GREGORIAN
BEGIN:VEVENT
DTSTART:20141107T133000Z
DTEND:20141107T143000Z
X-MICROSOFT-CDO-ALLDAYEVENT:FALSE
SUMMARY:First Friday Coffee - Neosho Area Chamber of Commerce
DESCRIPTION:Join us for First Friday Coffee at The Neosho Area Chamber of Commerce.  We will be announcing the Finalists for the Business of the Year Awards presented by CJR Red Carpet Realtors.  Coffee will be provided by One14 Coffee Bar!
X-ALT-DESC;FMTTYPE=text/html:Join us for First Friday Coffee at The Neosho Area Chamber of Commerce.&nbsp\; We will be announcing the Finalists for the Business of the Year Awards presented by CJR Red Carpet Realtors.&nbsp\; Coffee will be provided by One14 Coffee Bar!
LOCATION:Hale McGinty Business Development Center 216 W. Spring Neosho\, MO 64850
UID:e.2144.57
SEQUENCE:3
DTSTAMP:20260422T134156Z
URL:https://neoshocc.com/events/details/first-friday-coffee-neosho-area-chamber-of-commerce-11-07-2014-57
END:VEVENT

END:VCALENDAR
