BEGIN:VCALENDAR
VERSION:2.0
PRODID:-//ChamberMaster//Event Calendar 2.0//EN
METHOD:PUBLISH
X-PUBLISHED-TTL:P3D
REFRESH-INTERVAL:P3D
CALSCALE:GREGORIAN
BEGIN:VEVENT
DTSTART:20160401T123000Z
DTEND:20160401T133000Z
X-MICROSOFT-CDO-ALLDAYEVENT:FALSE
SUMMARY:First Friday Coffee - Mitchell's Drug Stores (New Blvd Location)
DESCRIPTION:First Friday Coffee being held at Mitchell's Drug Stores new location on the Boulevard and co-hosted by Representative Bill Reiboldt and Senator Ron Richard
X-ALT-DESC;FMTTYPE=text/html:First Friday Coffee being held at Mitchell&#39\;s Drug Stores new location on the Boulevard and co-hosted by Representative Bill Reiboldt and Senator Ron Richard
LOCATION:Mitchell's Drug Store 719 S. Neosho Blvd Neosho\, MO
UID:e.2144.1571
SEQUENCE:3
DTSTAMP:20260421T101722Z
URL:https://neoshocc.com/events/details/first-friday-coffee-mitchell-s-drug-stores-new-blvd-location-04-01-2016-1571
END:VEVENT

END:VCALENDAR
