BEGIN:VCALENDAR
VERSION:2.0
PRODID:-//ChamberMaster//Event Calendar 2.0//EN
METHOD:PUBLISH
X-PUBLISHED-TTL:P3D
REFRESH-INTERVAL:P3D
CALSCALE:GREGORIAN
BEGIN:VEVENT
DTSTART:20140801T123000Z
DTEND:20140801T133000Z
X-MICROSOFT-CDO-ALLDAYEVENT:FALSE
SUMMARY:First Friday Coffee - Insurance Benefits Consultants
DESCRIPTION:First Friday Coffee is our monthly membership networking opportunity!  Join fellow members for Coffee & refreshments at Insurance Benefits Consultants!
X-ALT-DESC;FMTTYPE=text/html:First Friday Coffee is our monthly membership networking opportunity!&nbsp\; Join fellow members for Coffee &amp\; refreshments at Insurance Benefits Consultants!
LOCATION:Insurance Benefits Consultants 735 West Harmony Neosho\, MO 64850
UID:e.2144.6
SEQUENCE:3
DTSTAMP:20260422T163751Z
URL:https://neoshocc.com/events/details/first-friday-coffee-insurance-benefits-consultants-08-01-2014-6
END:VEVENT

END:VCALENDAR
