BEGIN:VCALENDAR
VERSION:2.0
PRODID:-//ChamberMaster//Event Calendar 2.0//EN
METHOD:PUBLISH
X-PUBLISHED-TTL:P3D
REFRESH-INTERVAL:P3D
CALSCALE:GREGORIAN
BEGIN:VEVENT
DTSTART:20151002T123000Z
DTEND:20151002T133000Z
X-MICROSOFT-CDO-ALLDAYEVENT:FALSE
SUMMARY:First Friday Coffee- Freeman Neosho Hospital - Flowerbox Cafe
DESCRIPTION:Please join us for First Friday Coffee
X-ALT-DESC;FMTTYPE=text/html:Please join us for First Friday Coffee
LOCATION:Freeman Neosho Hospital Flowerbox Cafe
UID:e.2144.1462
SEQUENCE:3
DTSTAMP:20260421T185113Z
URL:https://neoshocc.com/events/details/first-friday-coffee-freeman-neosho-hospital-flowerbox-cafe-10-02-2015-1462
END:VEVENT

END:VCALENDAR
