BEGIN:VCALENDAR
VERSION:2.0
PRODID:-//ChamberMaster//Event Calendar 2.0//EN
METHOD:PUBLISH
X-PUBLISHED-TTL:P3D
REFRESH-INTERVAL:P3D
CALSCALE:GREGORIAN
BEGIN:VEVENT
DTSTART:20141003T123000Z
DTEND:20141003T133000Z
X-MICROSOFT-CDO-ALLDAYEVENT:FALSE
SUMMARY:First Friday Coffee - Freeman Neosho Hospital
DESCRIPTION:Join us for First Friday Coffee hosted by Freeman Neosho Hospital
X-ALT-DESC;FMTTYPE=text/html:Join us for First Friday Coffee hosted by Freeman Neosho Hospital<br />\n&nbsp\;
LOCATION:Freeman Neosho Hospital 113 West Hickory Neosho\, MO
UID:e.2144.42
SEQUENCE:3
DTSTAMP:20260422T150505Z
URL:https://neoshocc.com/events/details/first-friday-coffee-freeman-neosho-hospital-10-03-2014-42
END:VEVENT

END:VCALENDAR
