BEGIN:VCALENDAR
VERSION:2.0
PRODID:-//ChamberMaster//Event Calendar 2.0//EN
METHOD:PUBLISH
X-PUBLISHED-TTL:P3D
REFRESH-INTERVAL:P3D
CALSCALE:GREGORIAN
BEGIN:VEVENT
DTSTART:20190607T123000Z
DTEND:20190607T133000Z
X-MICROSOFT-CDO-ALLDAYEVENT:FALSE
SUMMARY:First Friday Coffee - Community Bank & Trust - Downtown Neosho
DESCRIPTION:Join the Neosho Area Chamber of Commerce for our June First Friday Coffee hosted by Community Bank & Trust in Downtown Neosho.  Enjoy Breakfast Treats\, Networking & Coffee.
X-ALT-DESC;FMTTYPE=text/html:Join the Neosho Area Chamber of Commerce for our June First Friday Coffee hosted by Community Bank &amp\; Trust in Downtown Neosho.&nbsp\; Enjoy Breakfast Treats\, Networking &amp\; Coffee.
LOCATION:Community Bank & Trust 100 S. Wood St Neosho\, MO
UID:e.2144.2231
SEQUENCE:3
DTSTAMP:20260424T003102Z
URL:https://neoshocc.com/events/details/first-friday-coffee-community-bank-trust-downtown-neosho-2231
END:VEVENT

END:VCALENDAR
