BEGIN:VCALENDAR
VERSION:2.0
PRODID:-//ChamberMaster//Event Calendar 2.0//EN
METHOD:PUBLISH
X-PUBLISHED-TTL:P3D
REFRESH-INTERVAL:P3D
CALSCALE:GREGORIAN
BEGIN:VEVENT
DTSTART:20141205T133000Z
DTEND:20141205T143000Z
X-MICROSOFT-CDO-ALLDAYEVENT:FALSE
SUMMARY:First Friday Coffee - Best Western Big Spring Lodge
DESCRIPTION:Join us for our December First Friday Coffee hosted by Best Western Big Spring Lodge.
X-ALT-DESC;FMTTYPE=text/html:Join us for our December First Friday Coffee hosted by Best Western Big Spring Lodge.
LOCATION:Best Western Big Spring Lodge 1810 Southern View Drive Neosho\, Mo 64850
UID:e.2144.91
SEQUENCE:3
DTSTAMP:20260422T104043Z
URL:https://neoshocc.com/events/details/first-friday-coffee-best-western-big-spring-lodge-12-05-2014-91
END:VEVENT

END:VCALENDAR
