BEGIN:VCALENDAR
VERSION:2.0
PRODID:-//ChamberMaster//Event Calendar 2.0//EN
METHOD:PUBLISH
X-PUBLISHED-TTL:P3D
REFRESH-INTERVAL:P3D
CALSCALE:GREGORIAN
BEGIN:VEVENT
DTSTART:20190802T123000Z
DTEND:20190802T133000Z
X-MICROSOFT-CDO-ALLDAYEVENT:FALSE
SUMMARY:First Friday Coffee - Adult & Teen Challenge of the 4 States
DESCRIPTION:You are invited to First Friday Coffee hosted by Adult & Teen Challenge of the 4 States! Enjoy Breakfast Treats\, Networking & Coffee.
X-ALT-DESC;FMTTYPE=text/html:You are invited to First Friday Coffee hosted by Adult &amp\; Teen Challenge of the 4 States! Enjoy Breakfast Treats\, Networking &amp\; Coffee.
LOCATION:Adult & Teen Challenge of the 4 States 18527 E. Hwy 86 Neosho\, MO
UID:e.2144.2234
SEQUENCE:3
DTSTAMP:20260421T085721Z
URL:https://neoshocc.com/events/details/first-friday-coffee-adult-teen-challenge-of-the-4-states-2234
END:VEVENT

END:VCALENDAR
