BEGIN:VCALENDAR
VERSION:2.0
PRODID:-//ChamberMaster//Event Calendar 2.0//EN
METHOD:PUBLISH
X-PUBLISHED-TTL:P3D
REFRESH-INTERVAL:P3D
CALSCALE:GREGORIAN
BEGIN:VEVENT
DTSTART:20150206T133000Z
DTEND:20150206T143000Z
X-MICROSOFT-CDO-ALLDAYEVENT:FALSE
SUMMARY:First Friday Coffee- Access Family Care Medical & Dental Clinics Corporate Office
DESCRIPTION:Join us for First Friday Coffee\, Friday\, February 6th from 7:30 am to 8:30 am at Access Family Care Medical & Dental Clinics NEW Coporate Office\, 475 Nelson Ave\, next to Crowder Industries.
X-ALT-DESC;FMTTYPE=text/html:Join us for First Friday Coffee\, Friday\, February 6th from 7:30 am to 8:30 am at Access Family Care Medical &amp\; Dental Clinics NEW Coporate Office\, 475 Nelson Ave\, next to Crowder Industries.&nbsp\;
LOCATION:Access Family Care Medical & Dental Clinics NEW Corporate Office 475 Nelson Ave Neosho\, MO (Just North of Crowder Industries)
UID:e.2144.106
SEQUENCE:3
DTSTAMP:20260422T073752Z
URL:https://neoshocc.com/events/details/first-friday-coffee-access-family-care-medical-dental-clinics-corporate-office-02-06-2015-106
END:VEVENT

END:VCALENDAR
