BEGIN:VCALENDAR
VERSION:2.0
PRODID:-//ChamberMaster//Event Calendar 2.0//EN
METHOD:PUBLISH
X-PUBLISHED-TTL:P3D
REFRESH-INTERVAL:P3D
CALSCALE:GREGORIAN
BEGIN:VEVENT
DTSTART:20160205T133000Z
DTEND:20160205T143000Z
X-MICROSOFT-CDO-ALLDAYEVENT:FALSE
SUMMARY:First Friday Coffee
DESCRIPTION:First Friday Coffee with Insurance Benefits Consultants\, LLC
X-ALT-DESC;FMTTYPE=text/html:First Friday Coffee with Insurance Benefits Consultants\, LLC
LOCATION:1009 S. Neosho Blvd.
UID:e.2144.1543
SEQUENCE:3
DTSTAMP:20260421T142547Z
URL:https://neoshocc.com/events/details/first-friday-coffee-02-05-2016-1543
END:VEVENT

END:VCALENDAR
