BEGIN:VCALENDAR
VERSION:2.0
PRODID:-//ChamberMaster//Event Calendar 2.0//EN
METHOD:PUBLISH
X-PUBLISHED-TTL:P3D
REFRESH-INTERVAL:P3D
CALSCALE:GREGORIAN
BEGIN:VEVENT
DTSTART:20141112T000000Z
DTEND:20141112T020000Z
X-MICROSOFT-CDO-ALLDAYEVENT:FALSE
SUMMARY:Financial Workshop with FA Kevin Hatfield/Edward Jones
DESCRIPTION:This class you will learn why everyone needs some type of estate plan
X-ALT-DESC;FMTTYPE=text/html:This class you will learn why everyone needs some type of estate plan
LOCATION:Neosho Area Chamber of Commerce
UID:e.2144.63
SEQUENCE:3
DTSTAMP:20260422T121548Z
URL:https://neoshocc.com/events/details/financial-workshop-with-fa-kevin-hatfield-edward-jones-11-11-2014-63
END:VEVENT

END:VCALENDAR
