BEGIN:VCALENDAR
VERSION:2.0
PRODID:-//ChamberMaster//Event Calendar 2.0//EN
METHOD:PUBLISH
X-PUBLISHED-TTL:P3D
REFRESH-INTERVAL:P3D
CALSCALE:GREGORIAN
BEGIN:VEVENT
DTSTART:20141105T000000Z
DTEND:20141105T020000Z
X-MICROSOFT-CDO-ALLDAYEVENT:FALSE
SUMMARY:Financial Workshop with FA Kevin Hatfield /Edward Jones
DESCRIPTION:This class you will discover how to protect yourself against unexpected life events
X-ALT-DESC;FMTTYPE=text/html:This class you will discover how to protect yourself against unexpected life events
LOCATION:Neosho Area Chamber of Commerce
UID:e.2144.62
SEQUENCE:3
DTSTAMP:20260422T121549Z
URL:https://neoshocc.com/events/details/financial-workshop-with-fa-kevin-hatfield-edward-jones-11-04-2014-62
END:VEVENT

END:VCALENDAR
