BEGIN:VCALENDAR
VERSION:2.0
PRODID:-//ChamberMaster//Event Calendar 2.0//EN
METHOD:PUBLISH
X-PUBLISHED-TTL:P3D
REFRESH-INTERVAL:P3D
CALSCALE:GREGORIAN
BEGIN:VEVENT
DTSTART:20141028T230000Z
DTEND:20141029T010000Z
X-MICROSOFT-CDO-ALLDAYEVENT:FALSE
SUMMARY:Financial Workshop with FA Kevin Hatfield/Edward Jones
DESCRIPTION:This class you will find out what you should be doing now to prepare for retirement
X-ALT-DESC;FMTTYPE=text/html:This class you will find out what you should be doing now to prepare for retirement
LOCATION:Neosho Area Chamber of Commerce
UID:e.2144.61
SEQUENCE:3
DTSTAMP:20260422T150516Z
URL:https://neoshocc.com/events/details/financial-workshop-with-fa-kevin-hatfield-edward-jones-10-28-2014-61
END:VEVENT

END:VCALENDAR
