BEGIN:VCALENDAR
VERSION:2.0
PRODID:-//ChamberMaster//Event Calendar 2.0//EN
METHOD:PUBLISH
X-PUBLISHED-TTL:P3D
REFRESH-INTERVAL:P3D
CALSCALE:GREGORIAN
BEGIN:VEVENT
DTSTART:20141021T230000Z
DTEND:20141022T010000Z
X-MICROSOFT-CDO-ALLDAYEVENT:FALSE
SUMMARY:Financial Workshop Class with FA Kevin Hatfield with Edward Jones
DESCRIPTION:This class you will learn the key features of bonds\, stocks and mutual funds
X-ALT-DESC;FMTTYPE=text/html:This class you will learn the key features of bonds\, stocks and mutual funds
LOCATION:Neosho Area Chamber of Commerce
UID:e.2144.60
SEQUENCE:3
DTSTAMP:20260422T134016Z
URL:https://neoshocc.com/events/details/financial-workshop-class-with-fa-kevin-hatfield-with-edward-jones-10-21-2014-60
END:VEVENT

END:VCALENDAR
