BEGIN:VCALENDAR
VERSION:2.0
PRODID:-//ChamberMaster//Event Calendar 2.0//EN
METHOD:PUBLISH
X-PUBLISHED-TTL:P3D
REFRESH-INTERVAL:P3D
CALSCALE:GREGORIAN
BEGIN:VEVENT
DTSTART:20260516T180000Z
DTEND:20260516T190000Z
X-MICROSOFT-CDO-ALLDAYEVENT:FALSE
SUMMARY:Film: Mr. Civil Rights: Thurgood Marshall and NAACP
DESCRIPTION:For the 72nd anniversary of landmark civil rights case Brown v. Board of Education\, join us for a film exploring\n\nThurgood Marshall and his journey to the U.S. Supreme Court.
X-ALT-DESC;FMTTYPE=text/html:For the 72nd anniversary of landmark&nbsp\;civil rights case Brown v. Board of Education\,&nbsp\;join us for a film exploring<br />\nThurgood Marshall and his journey to&nbsp\;the U.S. Supreme Court.
LOCATION:George Washington Carver NM 5646 Carver Rd. Diamond MO 64840
UID:e.2144.19798
SEQUENCE:3
DTSTAMP:20260422T112422Z
URL:https://neoshocc.com/events/details/film-mr-civil-rights-thurgood-marshall-and-naacp-19798
END:VEVENT

END:VCALENDAR
