BEGIN:VCALENDAR
VERSION:2.0
PRODID:-//ChamberMaster//Event Calendar 2.0//EN
METHOD:PUBLISH
X-PUBLISHED-TTL:P3D
REFRESH-INTERVAL:P3D
CALSCALE:GREGORIAN
BEGIN:VEVENT
DTSTART:20150124T220000Z
DTEND:20150125T010000Z
X-MICROSOFT-CDO-ALLDAYEVENT:FALSE
SUMMARY:FFAA Souper Supper
DESCRIPTION:Souper Supper to benefit Faithful Friends
X-ALT-DESC;FMTTYPE=text/html:Souper Supper to benefit Faithful Friends
LOCATION:Rocketdyne Church of Christ 1111 Rocketdyne Road Neosho\, MO 64850
UID:e.2144.100
SEQUENCE:3
DTSTAMP:20260422T092500Z
URL:https://neoshocc.com/events/details/ffaa-souper-supper-01-24-2015-100
END:VEVENT

END:VCALENDAR
