BEGIN:VCALENDAR
VERSION:2.0
PRODID:-//ChamberMaster//Event Calendar 2.0//EN
METHOD:PUBLISH
X-PUBLISHED-TTL:P3D
REFRESH-INTERVAL:P3D
CALSCALE:GREGORIAN
BEGIN:VEVENT
DTSTART:20141120T123000Z
DTEND:20141120T160000Z
X-MICROSOFT-CDO-ALLDAYEVENT:FALSE
SUMMARY:Feed the Fund! Breakfast with Friends
DESCRIPTION:Faithful Friends is hosting Feed the Fund! Breakfast with friends!  The TLC Fund provides medical care for pets with special needs.  Join them for breakfast!
X-ALT-DESC;FMTTYPE=text/html:<div style="color: gray\;">Faithful Friends is hosting Feed the Fund! Breakfast with friends!&nbsp\; The TLC Fund provides medical care for pets with special needs.&nbsp\; Join them for breakfast!</div>\n
LOCATION:First Presbyterian Church Fellowship Hall 215 N High St Neosho\, MO
UID:e.2144.85
SEQUENCE:3
DTSTAMP:20260422T132423Z
URL:https://neoshocc.com/events/details/feed-the-fund-breakfast-with-friends-11-20-2014-85
END:VEVENT

END:VCALENDAR
