BEGIN:VCALENDAR
VERSION:2.0
PRODID:-//ChamberMaster//Event Calendar 2.0//EN
METHOD:PUBLISH
X-PUBLISHED-TTL:P3D
REFRESH-INTERVAL:P3D
CALSCALE:GREGORIAN
BEGIN:VEVENT
DTSTART:20150507T220000Z
DTEND:20150508T000000Z
X-MICROSOFT-CDO-ALLDAYEVENT:FALSE
SUMMARY:Family Fun Fest - Hosted by the Neosho Freeman Family YMCA
DESCRIPTION:The Neosho Freeman Family YMCA is Bringing the Whole Community Together for A Family Fun Fest\, Thursday\, May 7th from 5pm to 7pm.
X-ALT-DESC;FMTTYPE=text/html:The Neosho Freeman Family YMCA is Bringing the Whole Community Together for A Family Fun Fest\, Thursday\, May 7th from 5pm to 7pm.
LOCATION:Neosho Freeman Family YMCA 4701 Chouteau Ave Neosho\, MO
UID:e.2144.246
SEQUENCE:3
DTSTAMP:20260422T030437Z
URL:https://neoshocc.com/events/details/family-fun-fest-hosted-by-the-neosho-freeman-family-ymca-05-07-2015-246
END:VEVENT

END:VCALENDAR
