BEGIN:VCALENDAR
VERSION:2.0
PRODID:-//ChamberMaster//Event Calendar 2.0//EN
METHOD:PUBLISH
X-PUBLISHED-TTL:P3D
REFRESH-INTERVAL:P3D
CALSCALE:GREGORIAN
BEGIN:VEVENT
DTSTART:20160130T220000Z
DTEND:20160131T010000Z
X-MICROSOFT-CDO-ALLDAYEVENT:FALSE
SUMMARY:Faithful Friends Soup Supper
DESCRIPTION:Faithful Friends Soup supper will be Saturday\, January 30 from 4pm to 7pm at Church of Christ Rocketdyne Road\, Neosho\, MO.\n\n \n\nSoup\, chili\, desserts\, drinks all for $8.00\n\n \n\nChili cook-off\n\n \n\nPie/dessert auction\n\n \n\nRaffle items:\n\n \n\nBaskets of goodies\n\nQuilt
X-ALT-DESC;FMTTYPE=text/html:<div style="color: gray\;"><span style="font-family: helvetica\,sans-serif\;"><span style="color: black\;"><span style="font-size: medium\;">Faithful Friends Soup supper will be Saturday\, January 30 from 4pm to 7pm at Church of Christ Rocketdyne Road\, Neosho\, MO.</span></span></span><br />\n&nbsp\;<br />\n<span style="font-family: helvetica\,sans-serif\;"><span style="color: black\;"><span style="font-size: medium\;">Soup\, chili\, desserts\, drinks all for $8.00</span></span></span><br />\n&nbsp\;<br />\n<span style="font-family: helvetica\,sans-serif\;"><span style="color: black\;"><span style="font-size: medium\;">Chili cook-off</span></span></span><br />\n&nbsp\;<br />\n<span style="font-family: helvetica\,sans-serif\;"><span style="color: black\;"><span style="font-size: medium\;">Pie/dessert auction</span></span></span><br />\n&nbsp\;<br />\n<span style="font-family: helvetica\,sans-serif\;"><span style="color: black\;"><span style="font-size: medium\;">Raffle items:</span></span></span><br />\n&nbsp\;<br />\n<span style="font-family: helvetica\,sans-serif\;"><span style="color: black\;"><span style="font-size: medium\;">Baskets of goodies</span></span></span><br />\n<span style="font-family: helvetica\,sans-serif\;"><span style="color: black\;"><span style="font-size: medium\;">Quilt</span></span></span><br />\n&nbsp\;<br />\n&nbsp\;</div>\n
LOCATION:Church Of Christ Rocketdyne Road\, Neosho\, MO
UID:e.2144.1532
SEQUENCE:3
DTSTAMP:20260421T143611Z
URL:https://neoshocc.com/events/details/faithful-friends-soup-supper-01-30-2016-1532
END:VEVENT

END:VCALENDAR
