BEGIN:VCALENDAR
VERSION:2.0
PRODID:-//ChamberMaster//Event Calendar 2.0//EN
METHOD:PUBLISH
X-PUBLISHED-TTL:P3D
REFRESH-INTERVAL:P3D
CALSCALE:GREGORIAN
BEGIN:VEVENT
DTSTART:20160402T150000Z
DTEND:20160402T190000Z
X-MICROSOFT-CDO-ALLDAYEVENT:FALSE
SUMMARY:Faithful Friends Open House
DESCRIPTION:Faithful Friends Open House
X-ALT-DESC;FMTTYPE=text/html:Faithful Friends Open House
LOCATION:Faithful Friends Adoption Center
UID:e.2144.1628
SEQUENCE:3
DTSTAMP:20260421T101702Z
URL:https://neoshocc.com/events/details/faithful-friends-open-house-04-02-2016-1628
END:VEVENT

END:VCALENDAR
