BEGIN:VCALENDAR
VERSION:2.0
PRODID:-//ChamberMaster//Event Calendar 2.0//EN
METHOD:PUBLISH
X-PUBLISHED-TTL:P3D
REFRESH-INTERVAL:P3D
CALSCALE:GREGORIAN
BEGIN:VEVENT
DTSTART:20141004T190000Z
DTEND:20141004T210000Z
X-MICROSOFT-CDO-ALLDAYEVENT:FALSE
SUMMARY:Faithful Friends & Neosho's Fall Festival Pet Contest
DESCRIPTION:Faithful Friends & Neosho's Fall Festival Pet Contest
X-ALT-DESC;FMTTYPE=text/html:Faithful Friends &amp\; Neosho&#39\;s Fall Festival Pet Contest
LOCATION:SW Corner of the Neosho Square
UID:e.2144.47
SEQUENCE:3
DTSTAMP:20260422T134621Z
URL:https://neoshocc.com/events/details/faithful-friends-neosho-s-fall-festival-pet-contest-10-04-2014-47
END:VEVENT

END:VCALENDAR
