BEGIN:VCALENDAR
VERSION:2.0
PRODID:-//ChamberMaster//Event Calendar 2.0//EN
METHOD:PUBLISH
X-PUBLISHED-TTL:P3D
REFRESH-INTERVAL:P3D
CALSCALE:GREGORIAN
BEGIN:VEVENT
DTSTART:20150911T233000Z
DTEND:20150912T013000Z
X-MICROSOFT-CDO-ALLDAYEVENT:FALSE
SUMMARY:Faithful Friends FunTasting & Wine Appreciation
DESCRIPTION:Come out and enjoy a fun evening with Faithful Friends for a Fun Tasting Wine Appreciation.  Friday\, September 11th\, 2015 6:30pm to 8:30pm at the Neosho Civic.  Learn about and sample five different wines\, paired with a variety of appetizers.  Bid on auction items and socialize with and for Friends!
X-ALT-DESC;FMTTYPE=text/html:Come out and enjoy a fun evening with Faithful Friends for a Fun Tasting Wine Appreciation.&nbsp\; Friday\, September 11th\, 2015 6:30pm to 8:30pm at the Neosho Civic.&nbsp\; Learn about and sample five different wines\, paired with a variety of appetizers.&nbsp\; Bid on auction items and socialize with and for Friends!
LOCATION:The Neosho Civic
UID:e.2144.440
SEQUENCE:3
DTSTAMP:20260421T202908Z
URL:https://neoshocc.com/events/details/faithful-friends-funtasting-wine-appreciation-09-11-2015-440
END:VEVENT

END:VCALENDAR
