BEGIN:VCALENDAR
VERSION:2.0
PRODID:-//ChamberMaster//Event Calendar 2.0//EN
METHOD:PUBLISH
X-PUBLISHED-TTL:P3D
REFRESH-INTERVAL:P3D
CALSCALE:GREGORIAN
BEGIN:VEVENT
DTSTART:20150925T000000Z
DTEND:20150925T010000Z
X-MICROSOFT-CDO-ALLDAYEVENT:FALSE
SUMMARY:Every Candle Has A Name
DESCRIPTION:Come join Newton County Relay for Life as they celebrate the survival of breast cancer with survivors\, families and friends\, and to pay tribute to those who have not survived the battle! Bring your lawn chair! For additional information call Donna Hood at (417) 451-4880.
X-ALT-DESC;FMTTYPE=text/html:<span class="fsl">Come join Newton County Relay for Life as they celebrate the survival of breast cancer with survivors\, families and friends\, and to pay tribute to those who have not survived the battle! Bring your lawn chair! For additional information call Donna Hood at (417) 451-4880.</span>
LOCATION:Big Spring Park
UID:e.2144.1467
SEQUENCE:3
DTSTAMP:20260421T202530Z
URL:https://neoshocc.com/events/details/every-candle-has-a-name-09-24-2015-1467
END:VEVENT

END:VCALENDAR
