BEGIN:VCALENDAR
VERSION:2.0
PRODID:-//ChamberMaster//Event Calendar 2.0//EN
METHOD:PUBLISH
X-PUBLISHED-TTL:P3D
REFRESH-INTERVAL:P3D
CALSCALE:GREGORIAN
BEGIN:VEVENT
DTSTART:20211016T133000Z
DTEND:20211017T003000Z
X-MICROSOFT-CDO-ALLDAYEVENT:FALSE
SUMMARY:Esports Day Camp - Proceeds Benefit Crowder eSports
DESCRIPTION:Level-up the fun with a full day of gaming hosted by Crowder eSports! Campers will play with new friends\, learn online safety\, and take a tour of Crowder eSports facilities. Campers may participate in additional activities including practice with collegiate eSports athletes\, play in a camp gaming tournament\, or compete in a pumpkin painting contest!\n\n\n\nThe camp will be hosted at Crowder College (601 Laclede Ave.\, Neosho\, MO 64850) October 16: Ages 7-11\, 8:30am - 1:30pm or Ages 12+\, 2:30pm - 7:30pm. Register by October 15 at www.crowder.edu/URL/eSportsCamp ($50\, lunch/dinner provided.)
X-ALT-DESC;FMTTYPE=text/html:Level-up the fun with a full day of gaming hosted by Crowder eSports! Campers will play with new friends\, learn online safety\, and take a tour of Crowder eSports facilities. Campers may participate in additional activities including practice with collegiate eSports athletes\, play in a camp gaming tournament\, or compete in a pumpkin painting contest!<br />\n<br />\nThe camp will be hosted at Crowder College (601 Laclede Ave.\, Neosho\, MO 64850) October 16: Ages 7-11\, 8:30am - 1:30pm or Ages 12+\, 2:30pm - 7:30pm. Register by October 15 at&nbsp\;<a href="http://www.crowder.edu/URL/eSportsCamp">www.crowder.edu/URL/eSportsCamp</a>&nbsp\;($50\, lunch/dinner provided.)
LOCATION:The camp will be hosted at Crowder College (601 Laclede Ave.\, Neosho\, MO 64850)
UID:e.2144.7881
SEQUENCE:3
DTSTAMP:20260423T211032Z
URL:https://neoshocc.com/events/details/esports-day-camp-proceeds-benefit-crowder-college-esports-7881
END:VEVENT

END:VCALENDAR
