BEGIN:VCALENDAR
VERSION:2.0
PRODID:-//ChamberMaster//Event Calendar 2.0//EN
METHOD:PUBLISH
X-PUBLISHED-TTL:P3D
REFRESH-INTERVAL:P3D
CALSCALE:GREGORIAN
BEGIN:VEVENT
DTSTART:20210330T170000Z
DTEND:20210330T180000Z
X-MICROSOFT-CDO-ALLDAYEVENT:FALSE
SUMMARY:EPIC Tour - Missouri Walnut
DESCRIPTION:This will be an EPIC Tour of Missouri Walnut. You will not want to miss this rare chance to see behind the scenes of Missouri Walnut.  \n\n\n\nThe facility at Missouri Walnut\, LLC covers over 130 acres. They are equipped with a high efficiency sawmill\, automatic-stacking machine\, top of the line kilns and high speed grading line. Missouri Walnut has established itself as a leading walnut producer in the United States and supplies customers all across the World with the highest quality walnut products. \n\n\n\nEPIC of Neosho is a program of the Neosho Area Chamber of Commerce for community professionals 40 and under. The EPIC program provides experiences for its members to build lasting relationships\, engage in professional development opportunities and become change-makers in the community. \n\n\n\n2020 EPIC Sponsors:  Arvest Bank\, Crowder College & Missouri Walnut
X-ALT-DESC;FMTTYPE=text/html:<span style="font-family:calibri\,sans-serif\;"><span style="font-size:11.0pt\;">This will be an EPIC Tour of Missouri Walnut. You will not want to miss this rare chance to see behind the scenes of Missouri Walnut.&nbsp\;&nbsp\;<br />\n<br />\nThe facility at Missouri Walnut\, LLC covers over 130 acres. They are equipped with a high efficiency sawmill\, automatic-stacking machine\, top of the line kilns and high speed grading line. Missouri Walnut has established itself as a leading walnut producer in the United States and supplies customers all across the World with the highest quality walnut products.&nbsp\;</span></span><br />\n<br />\n<em style="text-align: center\; background-color: rgb(238\, 238\, 238)\;"><span style="font-size:12px\;"><span style="color: rgb(63\, 63\, 63)\; font-family: &quot\;trebuchet ms&quot\;\, helvetica\, sans-serif\; letter-spacing: 0.5px\;">EPIC of Neosho is a program of the Neosho Area Chamber of Commerce for community professionals 40&nbsp\;and under. The EPIC program provides experiences for its members to build lasting relationships\, engage in professional development opportunities and become change-makers in the community.&nbsp\;</span></span></em><br />\n<br />\n<em><span style="font-size:12px\;"><span style="color: rgb(63\, 63\, 63)\; font-family: &quot\;trebuchet ms&quot\;\, helvetica\, sans-serif\; letter-spacing: 0.5px\;">2020 EPIC Sponsors:&nbsp\; Arvest Bank\, Crowder College &amp\; Missouri Walnut</span></span></em>
LOCATION:Missouri Walnut 11417 Oak Rd. - Neosho\, MO
UID:e.2144.7271
SEQUENCE:3
DTSTAMP:20260423T192930Z
URL:https://neoshocc.com/events/details/epic-tour-missouri-walnut-7271
END:VEVENT

END:VCALENDAR
