BEGIN:VCALENDAR
VERSION:2.0
PRODID:-//ChamberMaster//Event Calendar 2.0//EN
METHOD:PUBLISH
X-PUBLISHED-TTL:P3D
REFRESH-INTERVAL:P3D
CALSCALE:GREGORIAN
BEGIN:VEVENT
DTSTART:20150709T150000Z
DTEND:20150709T170000Z
X-MICROSOFT-CDO-ALLDAYEVENT:FALSE
SUMMARY:Employer of the Month - Media Event - Scholastic
DESCRIPTION:Join us for a media event as we recognize the staff at Scholastic as our July 2015 Business/Employer of the Month
X-ALT-DESC;FMTTYPE=text/html:Join us for a media event as we recognize the staff at Scholastic as our July 2015 Business/Employer of the Month
LOCATION:Scholastic's Office 3300 Howard Bush Drive Neosho\, MO
UID:e.2144.285
SEQUENCE:3
DTSTAMP:20260422T011621Z
URL:https://neoshocc.com/events/details/employer-of-the-month-media-event-scholastic-07-09-2015-285
END:VEVENT

END:VCALENDAR
