BEGIN:VCALENDAR
VERSION:2.0
PRODID:-//ChamberMaster//Event Calendar 2.0//EN
METHOD:PUBLISH
X-PUBLISHED-TTL:P3D
REFRESH-INTERVAL:P3D
CALSCALE:GREGORIAN
BEGIN:VEVENT
DTSTART:20160308T163000Z
DTEND:20160308T170000Z
X-MICROSOFT-CDO-ALLDAYEVENT:FALSE
SUMMARY:Employer of the Month Award Presentation
DESCRIPTION:Please join us as we present Twin Rivers with the Employer of the Month Award TODAY at 10:30am
X-ALT-DESC;FMTTYPE=text/html:Please join us as we present Twin Rivers with the Employer of the Month Award TODAY at 10:30am
LOCATION:225 N. Washington Neosho
UID:e.2144.1616
SEQUENCE:3
DTSTAMP:20260421T115309Z
URL:https://neoshocc.com/events/details/employer-of-the-month-award-presentation-03-08-2016-1616
END:VEVENT

END:VCALENDAR
